Workbook

Sheet 使い方
A1: 月謝袋テンプレート（無料版）の使い方
A3: 薄い色のセルに入力します。白いセルは自動計算です。
A5: 1. 年度・教室名・生徒名・月謝（月額）を入れます。12か月分の金額は月額から自動で入り、月ごとに書き換えられます。
A6: 2. 受け取った月に、受領日を入れ、受領印の欄に押印（または「済」）します。
A7: 3. A4に印刷して半分に折ると封筒の表として、厚紙に印刷するとカードとして使えます。
A8: 4. 4枚印刷シートは、同じ内容を小さなカードにしてA4に4枚並べます。生徒ごとに使うときはファイルをコピーします。
A10: Googleスプレッドシートで使う場合、ファイル > インポート > 既存のシートを置き換える、を選びます。日付とドロップダウンが残っているか確認してください。
A11: 個人・事業利用可。再配布・再販売不可。
A12: 本書は一般的なひな形です。個別の判断は専門家にご確認ください。

Sheet 月謝袋
A1: 月謝袋 | D1: MONTHLY TUITION
A4: 薄い色のセルに入力します。白いセルは自動計算です。
A6: 年度
A7: 教室名
A8: 生徒名 | E8: 様
A9: 月謝（月額）
A11: 月 | B11: 金額 | C11: 受領日 | D11: 受領印 | E11: 備考
A12: 4月 | B12: =IF($B$9="","",$B$9)
A13: 5月 | B13: =IF($B$9="","",$B$9)
A14: 6月 | B14: =IF($B$9="","",$B$9)
A15: 7月 | B15: =IF($B$9="","",$B$9)
A16: 8月 | B16: =IF($B$9="","",$B$9)
A17: 9月 | B17: =IF($B$9="","",$B$9)
A18: 10月 | B18: =IF($B$9="","",$B$9)
A19: 11月 | B19: =IF($B$9="","",$B$9)
A20: 12月 | B20: =IF($B$9="","",$B$9)
A21: 1月 | B21: =IF($B$9="","",$B$9)
A22: 2月 | B22: =IF($B$9="","",$B$9)
A23: 3月 | B23: =IF($B$9="","",$B$9)
A25: 備考
A29: A4に印刷して半分に折ると、角形の封筒に入れたり貼ったりできる大きさになります。厚紙に印刷すれば、そのままカードとしても使えます。金額は月額の欄から入り、月ごとに書き換えられます。
A32: そろばんノート テンプレート v2026.10 ｜ sorobannote.com ｜ 一般的なひな形です。個別の判断は専門家へ。

Sheet 4枚印刷
A1: 月謝袋 | F1: 月謝袋
A2: 教室 | B2: =IF(月謝袋!$B$7="","",月謝袋!$B$7) | F2: 教室 | G2: =IF(月謝袋!$B$7="","",月謝袋!$B$7)
A3: 生徒 | B3: =IF(月謝袋!$B$8="","",月謝袋!$B$8) | F3: 生徒 | G3: =IF(月謝袋!$B$8="","",月謝袋!$B$8)
A4: 年度 | B4: =IF(月謝袋!$B$6="","",月謝袋!$B$6) | F4: 年度 | G4: =IF(月謝袋!$B$6="","",月謝袋!$B$6)
A5: 月 | B5: 金額 | C5: 受領日 | D5: 受領印 | F5: 月 | G5: 金額 | H5: 受領日 | I5: 受領印
A6: 4月 | B6: =IF(月謝袋!$B$9="","",月謝袋!$B$9) | F6: 4月 | G6: =IF(月謝袋!$B$9="","",月謝袋!$B$9)
A7: 5月 | B7: =IF(月謝袋!$B$9="","",月謝袋!$B$9) | F7: 5月 | G7: =IF(月謝袋!$B$9="","",月謝袋!$B$9)
A8: 6月 | B8: =IF(月謝袋!$B$9="","",月謝袋!$B$9) | F8: 6月 | G8: =IF(月謝袋!$B$9="","",月謝袋!$B$9)
A9: 7月 | B9: =IF(月謝袋!$B$9="","",月謝袋!$B$9) | F9: 7月 | G9: =IF(月謝袋!$B$9="","",月謝袋!$B$9)
A10: 8月 | B10: =IF(月謝袋!$B$9="","",月謝袋!$B$9) | F10: 8月 | G10: =IF(月謝袋!$B$9="","",月謝袋!$B$9)
A11: 9月 | B11: =IF(月謝袋!$B$9="","",月謝袋!$B$9) | F11: 9月 | G11: =IF(月謝袋!$B$9="","",月謝袋!$B$9)
A12: 10月 | B12: =IF(月謝袋!$B$9="","",月謝袋!$B$9) | F12: 10月 | G12: =IF(月謝袋!$B$9="","",月謝袋!$B$9)
A13: 11月 | B13: =IF(月謝袋!$B$9="","",月謝袋!$B$9) | F13: 11月 | G13: =IF(月謝袋!$B$9="","",月謝袋!$B$9)
A14: 12月 | B14: =IF(月謝袋!$B$9="","",月謝袋!$B$9) | F14: 12月 | G14: =IF(月謝袋!$B$9="","",月謝袋!$B$9)
A15: 1月 | B15: =IF(月謝袋!$B$9="","",月謝袋!$B$9) | F15: 1月 | G15: =IF(月謝袋!$B$9="","",月謝袋!$B$9)
A16: 2月 | B16: =IF(月謝袋!$B$9="","",月謝袋!$B$9) | F16: 2月 | G16: =IF(月謝袋!$B$9="","",月謝袋!$B$9)
A17: 3月 | B17: =IF(月謝袋!$B$9="","",月謝袋!$B$9) | F17: 3月 | G17: =IF(月謝袋!$B$9="","",月謝袋!$B$9)
A22: 月謝袋 | F22: 月謝袋
A23: 教室 | B23: =IF(月謝袋!$B$7="","",月謝袋!$B$7) | F23: 教室 | G23: =IF(月謝袋!$B$7="","",月謝袋!$B$7)
A24: 生徒 | B24: =IF(月謝袋!$B$8="","",月謝袋!$B$8) | F24: 生徒 | G24: =IF(月謝袋!$B$8="","",月謝袋!$B$8)
A25: 年度 | B25: =IF(月謝袋!$B$6="","",月謝袋!$B$6) | F25: 年度 | G25: =IF(月謝袋!$B$6="","",月謝袋!$B$6)
A26: 月 | B26: 金額 | C26: 受領日 | D26: 受領印 | F26: 月 | G26: 金額 | H26: 受領日 | I26: 受領印
A27: 4月 | B27: =IF(月謝袋!$B$9="","",月謝袋!$B$9) | F27: 4月 | G27: =IF(月謝袋!$B$9="","",月謝袋!$B$9)
A28: 5月 | B28: =IF(月謝袋!$B$9="","",月謝袋!$B$9) | F28: 5月 | G28: =IF(月謝袋!$B$9="","",月謝袋!$B$9)
A29: 6月 | B29: =IF(月謝袋!$B$9="","",月謝袋!$B$9) | F29: 6月 | G29: =IF(月謝袋!$B$9="","",月謝袋!$B$9)
A30: 7月 | B30: =IF(月謝袋!$B$9="","",月謝袋!$B$9) | F30: 7月 | G30: =IF(月謝袋!$B$9="","",月謝袋!$B$9)
A31: 8月 | B31: =IF(月謝袋!$B$9="","",月謝袋!$B$9) | F31: 8月 | G31: =IF(月謝袋!$B$9="","",月謝袋!$B$9)
A32: 9月 | B32: =IF(月謝袋!$B$9="","",月謝袋!$B$9) | F32: 9月 | G32: =IF(月謝袋!$B$9="","",月謝袋!$B$9)
A33: 10月 | B33: =IF(月謝袋!$B$9="","",月謝袋!$B$9) | F33: 10月 | G33: =IF(月謝袋!$B$9="","",月謝袋!$B$9)
A34: 11月 | B34: =IF(月謝袋!$B$9="","",月謝袋!$B$9) | F34: 11月 | G34: =IF(月謝袋!$B$9="","",月謝袋!$B$9)
A35: 12月 | B35: =IF(月謝袋!$B$9="","",月謝袋!$B$9) | F35: 12月 | G35: =IF(月謝袋!$B$9="","",月謝袋!$B$9)
A36: 1月 | B36: =IF(月謝袋!$B$9="","",月謝袋!$B$9) | F36: 1月 | G36: =IF(月謝袋!$B$9="","",月謝袋!$B$9)
A37: 2月 | B37: =IF(月謝袋!$B$9="","",月謝袋!$B$9) | F37: 2月 | G37: =IF(月謝袋!$B$9="","",月謝袋!$B$9)
A38: 3月 | B38: =IF(月謝袋!$B$9="","",月謝袋!$B$9) | F38: 3月 | G38: =IF(月謝袋!$B$9="","",月謝袋!$B$9)
A43: そろばんノート テンプレート v2026.10 ｜ sorobannote.com ｜ 一般的なひな形です。個別の判断は専門家へ。

Sheet 変更履歴
A1: 版 | B1: 内容
A2: v2026.10 | B2: 初版。無料のテンプレートです。2026-10-14
A3: v2026.10 | B3: そろばんノートのテンプレートは sorobannote.com で公開しています。
