Workbook

Sheet 使い方
A1: 業務日報テンプレート（無料版）の使い方
A3: 薄い色のセルに入力します。白いセルは自動計算です。
A5: 1. 1枚が1日分で、シートに5日分あります。印刷すると1日1ページになります。
A6: 2. 日付・部署・氏名を入れ、本日の業務を業務区分・内容・時間・成果で最大6行入れます。
A7: 3. 明日の予定、課題・連絡事項を書き、上長はコメントを書きます。
A8: 4. 週の集計シートに、5日分の時間が業務区分ごとに自動で集計されます。
A9: 5. 有料版の「小さなお店の法定帳簿セット」（1,480円）は、出勤簿と賃金台帳で労働時間と賃金を管理します。
A11: Googleスプレッドシートで使う場合、ファイル > インポート > 既存のシートを置き換える、を選びます。日付とドロップダウンが残っているか確認してください。
A12: 個人・事業利用可。再配布・再販売不可。
A13: 本書は一般的なひな形です。個別の判断は専門家にご確認ください。

Sheet 業務日報
A1: 業務日報 | E1: DAILY REPORT
A4: 薄い色のセルに入力します。白いセルは自動計算です。
A5: 日付 | C5: =IF($B$5="","",CHOOSE(WEEKDAY($B$5),"日","月","火","水","木","金","土")&"曜日") | E5: 部署
E6: 氏名
A8: 業務区分 | B8: 本日の業務 | E8: 時間 | F8: 成果
D15: 合計 | E15: =SUM(E9:E14) -> 0
A17: 明日の予定
A22: 課題・連絡事項
A27: 上長コメント
E32: 確認印
A33: そろばんノート テンプレート v2026.10 ｜ sorobannote.com ｜ 一般的なひな形です。個別の判断は専門家へ。
A35: 業務日報 | E35: DAILY REPORT
A39: 日付 | C39: =IF($B$39="","",CHOOSE(WEEKDAY($B$39),"日","月","火","水","木","金","土")&"曜日") | E39: 部署
E40: 氏名
A42: 業務区分 | B42: 本日の業務 | E42: 時間 | F42: 成果
D49: 合計 | E49: =SUM(E43:E48) -> 0
A51: 明日の予定
A56: 課題・連絡事項
A61: 上長コメント
E66: 確認印
A67: そろばんノート テンプレート v2026.10 ｜ sorobannote.com ｜ 一般的なひな形です。個別の判断は専門家へ。
A69: 業務日報 | E69: DAILY REPORT
A73: 日付 | C73: =IF($B$73="","",CHOOSE(WEEKDAY($B$73),"日","月","火","水","木","金","土")&"曜日") | E73: 部署
E74: 氏名
A76: 業務区分 | B76: 本日の業務 | E76: 時間 | F76: 成果
D83: 合計 | E83: =SUM(E77:E82) -> 0
A85: 明日の予定
A90: 課題・連絡事項
A95: 上長コメント
E100: 確認印
A101: そろばんノート テンプレート v2026.10 ｜ sorobannote.com ｜ 一般的なひな形です。個別の判断は専門家へ。
A103: 業務日報 | E103: DAILY REPORT
A107: 日付 | C107: =IF($B$107="","",CHOOSE(WEEKDAY($B$107),"日","月","火","水","木","金","土")&"曜日") | E107: 部署
E108: 氏名
A110: 業務区分 | B110: 本日の業務 | E110: 時間 | F110: 成果
D117: 合計 | E117: =SUM(E111:E116) -> 0
A119: 明日の予定
A124: 課題・連絡事項
A129: 上長コメント
E134: 確認印
...

Sheet 週の集計
A1: 週の集計 | E1: WEEKLY HOURS
A4: 薄い色のセルに入力します。白いセルは自動計算です。
A6: 業務区分 | B6: =IF(業務日報!$B$5="","1日目",TEXT(業務日報!$B$5,"m/d")&"（"&CHOOSE(WEEKDAY(業務日報!$B$5),"日","月","火","水","木","金","土")&"）") -> 1日目 | C6: =IF(業務日報!$B$39="","2日目",TEXT(業務日報!$B$39,"m/d")&"（"&CHOOSE(WEEKDAY(業務日報!$B$39),"日","月","火","水","木","金","土")&"）") -> 2日目 | D6: =IF(業務日報!$B$73="","3日目",TEXT(業務日報!$B$73,"m/d")&"（"&CHOOSE(WEEKDAY(業務日報!$B$73),"日","月","火","水","木","金","土")&"）") -> 3日目 | E6: =IF(業務日報!$B$107="","4日目",TEXT(業務日報!$B$107,"m/d")&"（"&CHOOSE(WEEKDAY(業務日報!$B$107),"日","月","火","水","木","金","土")&"）") -> 4日目 | F6: =IF(業務日報!$B$141="","5日目",TEXT(業務日報!$B$141,"m/d")&"（"&CHOOSE(WEEKDAY(業務日報!$B$141),"日","月","火","水","木","金","土")&"）") -> 5日目 | G6: 週の合計
A7: 営業 | B7: =SUMIFS(業務日報!$E$9:$E$14,業務日報!$A$9:$A$14,$A7) -> 0 | C7: =SUMIFS(業務日報!$E$43:$E$48,業務日報!$A$43:$A$48,$A7) -> 0 | D7: =SUMIFS(業務日報!$E$77:$E$82,業務日報!$A$77:$A$82,$A7) -> 0 | E7: =SUMIFS(業務日報!$E$111:$E$116,業務日報!$A$111:$A$116,$A7) -> 0 | F7: =SUMIFS(業務日報!$E$145:$E$150,業務日報!$A$145:$A$150,$A7) -> 0 | G7: =SUM(B7:F7) -> 0
A8: 顧客対応 | B8: =SUMIFS(業務日報!$E$9:$E$14,業務日報!$A$9:$A$14,$A8) -> 0 | C8: =SUMIFS(業務日報!$E$43:$E$48,業務日報!$A$43:$A$48,$A8) -> 0 | D8: =SUMIFS(業務日報!$E$77:$E$82,業務日報!$A$77:$A$82,$A8) -> 0 | E8: =SUMIFS(業務日報!$E$111:$E$116,業務日報!$A$111:$A$116,$A8) -> 0 | F8: =SUMIFS(業務日報!$E$145:$E$150,業務日報!$A$145:$A$150,$A8) -> 0 | G8: =SUM(B8:F8) -> 0
A9: 制作 | B9: =SUMIFS(業務日報!$E$9:$E$14,業務日報!$A$9:$A$14,$A9) -> 0 | C9: =SUMIFS(業務日報!$E$43:$E$48,業務日報!$A$43:$A$48,$A9) -> 0 | D9: =SUMIFS(業務日報!$E$77:$E$82,業務日報!$A$77:$A$82,$A9) -> 0 | E9: =SUMIFS(業務日報!$E$111:$E$116,業務日報!$A$111:$A$116,$A9) -> 0 | F9: =SUMIFS(業務日報!$E$145:$E$150,業務日報!$A$145:$A$150,$A9) -> 0 | G9: =SUM(B9:F9) -> 0
A10: 事務 | B10: =SUMIFS(業務日報!$E$9:$E$14,業務日報!$A$9:$A$14,$A10) -> 0 | C10: =SUMIFS(業務日報!$E$43:$E$48,業務日報!$A$43:$A$48,$A10) -> 0 | D10: =SUMIFS(業務日報!$E$77:$E$82,業務日報!$A$77:$A$82,$A10) -> 0 | E10: =SUMIFS(業務日報!$E$111:$E$116,業務日報!$A$111:$A$116,$A10) -> 0 | F10: =SUMIFS(業務日報!$E$145:$E$150,業務日報!$A$145:$A$150,$A10) -> 0 | G10: =SUM(B10:F10) -> 0
A11: 会議 | B11: =SUMIFS(業務日報!$E$9:$E$14,業務日報!$A$9:$A$14,$A11) -> 0 | C11: =SUMIFS(業務日報!$E$43:$E$48,業務日報!$A$43:$A$48,$A11) -> 0 | D11: =SUMIFS(業務日報!$E$77:$E$82,業務日報!$A$77:$A$82,$A11) -> 0 | E11: =SUMIFS(業務日報!$E$111:$E$116,業務日報!$A$111:$A$116,$A11) -> 0 | F11: =SUMIFS(業務日報!$E$145:$E$150,業務日報!$A$145:$A$150,$A11) -> 0 | G11: =SUM(B11:F11) -> 0
A12: その他 | B12: =SUMIFS(業務日報!$E$9:$E$14,業務日報!$A$9:$A$14,$A12) -> 0 | C12: =SUMIFS(業務日報!$E$43:$E$48,業務日報!$A$43:$A$48,$A12) -> 0 | D12: =SUMIFS(業務日報!$E$77:$E$82,業務日報!$A$77:$A$82,$A12) -> 0 | E12: =SUMIFS(業務日報!$E$111:$E$116,業務日報!$A$111:$A$116,$A12) -> 0 | F12: =SUMIFS(業務日報!$E$145:$E$150,業務日報!$A$145:$A$150,$A12) -> 0 | G12: =SUM(B12:F12) -> 0
A13: 合計 | B13: =SUM(B7:B12) -> 0 | C13: =SUM(C7:C12) -> 0 | D13: =SUM(D7:D12) -> 0 | E13: =SUM(E7:E12) -> 0 | F13: =SUM(F7:F12) -> 0 | G13: =SUM(G7:G12) -> 0
A15: 業務日報シートの5日分の時間を、業務区分ごとに集計します。業務区分は日報のドロップダウンから選びます。
A17: そろばんノート テンプレート v2026.10 ｜ sorobannote.com ｜ 一般的なひな形です。個別の判断は専門家へ。

Sheet 変更履歴
A1: 版 | B1: 内容
A2: v2026.10 | B2: 初版。BOOTH「小さなお店の法定帳簿セット 2026」（1,480円）とあわせて使える無料版です。2026-10-14
A3: v2026.10 | B3: 有料版は BOOTH の そろばんノート（sorobannote.booth.pm）で販売しています。
