Workbook
Name ItemCodes: 品目マスタ!$A$7:$A$206

Sheet 使い方
A1: 在庫管理表（無料版）の使い方
A3: 薄い色のセルに入力します。白いセルは自動計算です。
A5: 1. 品目マスタに品番・品名・単位・発注点・単価の目安・期首在庫を入れます（200品目まで）。
A6: 2. 入出庫に、入庫または出庫のたびに日付・品番・数量を入れます（1,000行）。
A7: 3. 品目マスタで現在庫と発注点以下の表示、在庫金額の目安を確かめます。棚卸の日は数えた数を入れると差異が出ます。
A9: Googleスプレッドシートで使う場合、ファイル > インポート > 既存のシートを置き換える、を選びます。日付とドロップダウンが残っているか確認してください。
A10: 個人・事業利用可。再配布・再販売不可。
A11: 本書は一般的なひな形です。個別の判断は専門家にご確認ください。

Sheet 品目マスタ
A1: 在庫管理表（品目マスタ） | I1: STOCK
A4: 品目を登録すると、入出庫の記録から現在庫・発注点以下の表示・在庫金額（現在庫×単価の目安）が出ます。棚卸で数えた数を入れると差異が出ます。在庫金額は目安です。決算で使う評価額は、選んだ評価方法で計算し直してください。
A6: 品番 | B6: 品名 | C6: 単位 | D6: 発注点 | E6: 単価の 目安（円） | F6: 期首在庫 | G6: 入庫計 | H6: 出庫計 | I6: 現在庫 | J6: 発注 | K6: 在庫金額 （目安） | L6: 棚卸数 | M6: 差異
G7: =IF($A7="","",SUMIFS(入出庫!$D$7:$D$1006,入出庫!$B$7:$B$1006,$A7)) | H7: =IF($A7="","",SUMIFS(入出庫!$E$7:$E$1006,入出庫!$B$7:$B$1006,$A7)) | I7: =IF($A7="","",N(F7)+G7-H7) | J7: =IF(OR($A7="",D7=""),"",IF(I7<=D7,"発注点以下","")) | K7: =IF(OR($A7="",E7=""),"",I7*E7) | M7: =IF(OR($A7="",L7=""),"",L7-I7)
G8: =IF($A8="","",SUMIFS(入出庫!$D$7:$D$1006,入出庫!$B$7:$B$1006,$A8)) | H8: =IF($A8="","",SUMIFS(入出庫!$E$7:$E$1006,入出庫!$B$7:$B$1006,$A8)) | I8: =IF($A8="","",N(F8)+G8-H8) | J8: =IF(OR($A8="",D8=""),"",IF(I8<=D8,"発注点以下","")) | K8: =IF(OR($A8="",E8=""),"",I8*E8) | M8: =IF(OR($A8="",L8=""),"",L8-I8)
G9: =IF($A9="","",SUMIFS(入出庫!$D$7:$D$1006,入出庫!$B$7:$B$1006,$A9)) | H9: =IF($A9="","",SUMIFS(入出庫!$E$7:$E$1006,入出庫!$B$7:$B$1006,$A9)) | I9: =IF($A9="","",N(F9)+G9-H9) | J9: =IF(OR($A9="",D9=""),"",IF(I9<=D9,"発注点以下","")) | K9: =IF(OR($A9="",E9=""),"",I9*E9) | M9: =IF(OR($A9="",L9=""),"",L9-I9)
G10: =IF($A10="","",SUMIFS(入出庫!$D$7:$D$1006,入出庫!$B$7:$B$1006,$A10)) | H10: =IF($A10="","",SUMIFS(入出庫!$E$7:$E$1006,入出庫!$B$7:$B$1006,$A10)) | I10: =IF($A10="","",N(F10)+G10-H10) | J10: =IF(OR($A10="",D10=""),"",IF(I10<=D10,"発注点以下","")) | K10: =IF(OR($A10="",E10=""),"",I10*E10) | M10: =IF(OR($A10="",L10=""),"",L10-I10)
G11: =IF($A11="","",SUMIFS(入出庫!$D$7:$D$1006,入出庫!$B$7:$B$1006,$A11)) | H11: =IF($A11="","",SUMIFS(入出庫!$E$7:$E$1006,入出庫!$B$7:$B$1006,$A11)) | I11: =IF($A11="","",N(F11)+G11-H11) | J11: =IF(OR($A11="",D11=""),"",IF(I11<=D11,"発注点以下","")) | K11: =IF(OR($A11="",E11=""),"",I11*E11) | M11: =IF(OR($A11="",L11=""),"",L11-I11)
G12: =IF($A12="","",SUMIFS(入出庫!$D$7:$D$1006,入出庫!$B$7:$B$1006,$A12)) | H12: =IF($A12="","",SUMIFS(入出庫!$E$7:$E$1006,入出庫!$B$7:$B$1006,$A12)) | I12: =IF($A12="","",N(F12)+G12-H12) | J12: =IF(OR($A12="",D12=""),"",IF(I12<=D12,"発注点以下","")) | K12: =IF(OR($A12="",E12=""),"",I12*E12) | M12: =IF(OR($A12="",L12=""),"",L12-I12)
G13: =IF($A13="","",SUMIFS(入出庫!$D$7:$D$1006,入出庫!$B$7:$B$1006,$A13)) | H13: =IF($A13="","",SUMIFS(入出庫!$E$7:$E$1006,入出庫!$B$7:$B$1006,$A13)) | I13: =IF($A13="","",N(F13)+G13-H13) | J13: =IF(OR($A13="",D13=""),"",IF(I13<=D13,"発注点以下","")) | K13: =IF(OR($A13="",E13=""),"",I13*E13) | M13: =IF(OR($A13="",L13=""),"",L13-I13)
G14: =IF($A14="","",SUMIFS(入出庫!$D$7:$D$1006,入出庫!$B$7:$B$1006,$A14)) | H14: =IF($A14="","",SUMIFS(入出庫!$E$7:$E$1006,入出庫!$B$7:$B$1006,$A14)) | I14: =IF($A14="","",N(F14)+G14-H14) | J14: =IF(OR($A14="",D14=""),"",IF(I14<=D14,"発注点以下","")) | K14: =IF(OR($A14="",E14=""),"",I14*E14) | M14: =IF(OR($A14="",L14=""),"",L14-I14)
G15: =IF($A15="","",SUMIFS(入出庫!$D$7:$D$1006,入出庫!$B$7:$B$1006,$A15)) | H15: =IF($A15="","",SUMIFS(入出庫!$E$7:$E$1006,入出庫!$B$7:$B$1006,$A15)) | I15: =IF($A15="","",N(F15)+G15-H15) | J15: =IF(OR($A15="",D15=""),"",IF(I15<=D15,"発注点以下","")) | K15: =IF(OR($A15="",E15=""),"",I15*E15) | M15: =IF(OR($A15="",L15=""),"",L15-I15)
G16: =IF($A16="","",SUMIFS(入出庫!$D$7:$D$1006,入出庫!$B$7:$B$1006,$A16)) | H16: =IF($A16="","",SUMIFS(入出庫!$E$7:$E$1006,入出庫!$B$7:$B$1006,$A16)) | I16: =IF($A16="","",N(F16)+G16-H16) | J16: =IF(OR($A16="",D16=""),"",IF(I16<=D16,"発注点以下","")) | K16: =IF(OR($A16="",E16=""),"",I16*E16) | M16: =IF(OR($A16="",L16=""),"",L16-I16)
G17: =IF($A17="","",SUMIFS(入出庫!$D$7:$D$1006,入出庫!$B$7:$B$1006,$A17)) | H17: =IF($A17="","",SUMIFS(入出庫!$E$7:$E$1006,入出庫!$B$7:$B$1006,$A17)) | I17: =IF($A17="","",N(F17)+G17-H17) | J17: =IF(OR($A17="",D17=""),"",IF(I17<=D17,"発注点以下","")) | K17: =IF(OR($A17="",E17=""),"",I17*E17) | M17: =IF(OR($A17="",L17=""),"",L17-I17)
G18: =IF($A18="","",SUMIFS(入出庫!$D$7:$D$1006,入出庫!$B$7:$B$1006,$A18)) | H18: =IF($A18="","",SUMIFS(入出庫!$E$7:$E$1006,入出庫!$B$7:$B$1006,$A18)) | I18: =IF($A18="","",N(F18)+G18-H18) | J18: =IF(OR($A18="",D18=""),"",IF(I18<=D18,"発注点以下","")) | K18: =IF(OR($A18="",E18=""),"",I18*E18) | M18: =IF(OR($A18="",L18=""),"",L18-I18)
... G206: =IF($A206="","",SUMIFS(入出庫!$D$7:$D$1006,入出庫!$B$7:$B$1006,$A206)) | H206: =IF($A206="","",SUMIFS(入出庫!$E$7:$E$1006,入出庫!$B$7:$B$1006,$A206)) | I206: =IF($A206="","",N(F206)+G206-H206) | J206: =IF(OR($A206="",D206=""),"",IF(I206<=D206,"発注点以下","")) | K206: =IF(OR($A206="",E206=""),"",I206*E206) | M206: =IF(OR($A206="",L206=""),"",L206-I206)
B207: 在庫金額の合計（目安） | K207: =SUM(K7:K206) -> 0
A209: そろばんノート テンプレート v2026.10 ｜ sorobannote.com ｜ 一般的なひな形です。個別の判断は専門家へ。

Sheet 入出庫
A1: 入出庫 | E1: IN / OUT
A4: 1行に1回の入庫または出庫を入れます。品番を選ぶと品名が出ます。
A6: 日付 | B6: 品番 | C6: 品名 | D6: 入庫 | E6: 出庫 | F6: 備考
C7: =IF(B7="","",IFERROR(INDEX(品目マスタ!$B$7:$B$206,MATCH(B7,ItemCodes,0)),"（未登録）"))
C8: =IF(B8="","",IFERROR(INDEX(品目マスタ!$B$7:$B$206,MATCH(B8,ItemCodes,0)),"（未登録）"))
C9: =IF(B9="","",IFERROR(INDEX(品目マスタ!$B$7:$B$206,MATCH(B9,ItemCodes,0)),"（未登録）"))
C10: =IF(B10="","",IFERROR(INDEX(品目マスタ!$B$7:$B$206,MATCH(B10,ItemCodes,0)),"（未登録）"))
C11: =IF(B11="","",IFERROR(INDEX(品目マスタ!$B$7:$B$206,MATCH(B11,ItemCodes,0)),"（未登録）"))
C12: =IF(B12="","",IFERROR(INDEX(品目マスタ!$B$7:$B$206,MATCH(B12,ItemCodes,0)),"（未登録）"))
C13: =IF(B13="","",IFERROR(INDEX(品目マスタ!$B$7:$B$206,MATCH(B13,ItemCodes,0)),"（未登録）"))
C14: =IF(B14="","",IFERROR(INDEX(品目マスタ!$B$7:$B$206,MATCH(B14,ItemCodes,0)),"（未登録）"))
C15: =IF(B15="","",IFERROR(INDEX(品目マスタ!$B$7:$B$206,MATCH(B15,ItemCodes,0)),"（未登録）"))
C16: =IF(B16="","",IFERROR(INDEX(品目マスタ!$B$7:$B$206,MATCH(B16,ItemCodes,0)),"（未登録）"))
C17: =IF(B17="","",IFERROR(INDEX(品目マスタ!$B$7:$B$206,MATCH(B17,ItemCodes,0)),"（未登録）"))
C18: =IF(B18="","",IFERROR(INDEX(品目マスタ!$B$7:$B$206,MATCH(B18,ItemCodes,0)),"（未登録）"))
... C1006: =IF(B1006="","",IFERROR(INDEX(品目マスタ!$B$7:$B$206,MATCH(B1006,ItemCodes,0)),"（未登録）"))
A1008: そろばんノート テンプレート v2026.10 ｜ sorobannote.com ｜ 一般的なひな形です。個別の判断は専門家へ。

Sheet 変更履歴
A1: 版 | B1: 内容
A2: v2026.10 | B2: 初版（2026-10-15）。
